BEGIN:VCALENDAR
VERSION:2.0
PRODID:-//Tukios.com/
BEGIN:VEVENT
UID:7984b837-9a62-4aac-94b1-9f623a881b54@www.mccrearyfh.com
DTSTAMP:20260421T181628Z
DTSTART:20260424T160000Z
DTEND:20260424T170000Z
SUMMARY:Visitation
DESCRIPTION:
URL:https://www.mccrearyfh.com/obituaries/sue-hatfield
LOCATION:McCreary County Funeral Home PO BOX 456 / 48 W Hwy 700  Whitley 
	City KY 42653
GEO:36.7234118;-84.4704942
END:VEVENT
END:VCALENDAR