BEGIN:VCALENDAR
VERSION:2.0
PRODID:-//Tukios.com/
BEGIN:VEVENT
UID:22b905ea-20c1-4ef7-b06b-3828a2db3a39@www.mccrearyfh.com
DTSTAMP:20260421T182127Z
DTSTART:20260424T170000Z
DTEND:20260424T180000Z
SUMMARY:Burial
DESCRIPTION:
URL:https://www.mccrearyfh.com/obituaries/sue-hatfield
LOCATION:Lower Cal Hill Cemetery 277 Cal Hill Spur  Pine Knot KY 42635
GEO:36.6579392;-84.4334541
END:VEVENT
END:VCALENDAR